View In:
ArcGIS JavaScript
ArcGIS Online Map Viewer
ArcGIS Earth
ArcGIS Pro
Service Description: Viviendas con meterial de los pisos en alfombra, baldosa o cemento y otros, en rural disperso, segĂșn municipio 2018.
Map Name: Serv_MpiosRuralDisperso_MaterialPisos_2018
Legend
All Layers and Tables
Dynamic Legend
Dynamic All Layers
Layers:
Description: Viviendas con meterial de los pisos en alfombra, baldosa o cemento y otros, en rural disperso, segĂșn municipio 2018.
Service Item Id: d30783bd3360404f848ca93ca8b704a1
Copyright Text: Departamento Administrativo Nacional de Estadística (DANE)
Spatial Reference:
102100
(3857)
Single Fused Map Cache: true
Tile Info:
- Height: 256
- Width: 256
- DPI: 96
-
Levels of Detail: 24
-
Level ID: 1
[ Start Tile, End Tile ]
- Resolution: 78271.5169639999
- Scale: 2.95828763795777E8
-
Level ID: 2
[ Start Tile, End Tile ]
- Resolution: 39135.7584820001
- Scale: 1.47914381897889E8
-
Level ID: 3
[ Start Tile, End Tile ]
- Resolution: 19567.8792409999
- Scale: 7.3957190948944E7
-
Level ID: 4
[ Start Tile, End Tile ]
- Resolution: 9783.93962049996
- Scale: 3.6978595474472E7
-
Level ID: 5
[ Start Tile, End Tile ]
- Resolution: 4891.96981024998
- Scale: 1.8489297737236E7
- Format: MIXED
- Compression Quality: 75.0
- Origin: X: -2.0037508342787E7
Y: 2.0037508342787E7
- Spatial Reference: 102100
(3857)
Storage Info:
- Storage Format: esriMapCacheStorageModeCompactV2
- Packet Size: 128
Initial Extent:
XMin: -9923065.334769052
YMin: -621975.6908051188
XMax: -6998040.624449603
YMax: 1944279.754900833
Spatial Reference: 102100
Full Extent:
XMin: -9098767.66
YMin: -471243.5331999995
XMax: -7441397.9823
YMax: 1504865.250500001
Spatial Reference: 102100
Units: esriMeters
Supported Image Format Types: PNG32,PNG24,PNG,JPG,DIB,TIFF,EMF,PS,PDF,GIF,SVG,SVGZ,BMP
Document Info:
Title: Viviendas con meterial de los pisos en rural disperso, según municipio 2018
Author:
Comments: Viviendas con meterial de los pisos en alfombra, baldosa o cemento y otros, en rural disperso, según municipio 2018.
Subject: Viviendas con meterial de los pisos en rural disperso, según municipio 2018.
Category:
Keywords: CNPV,Censo,2018,Vivienda,Material,Pisos,rural disperso
AntialiasingMode: Fast
TextAntialiasingMode: Force
Supports Dynamic Layers: true
MaxRecordCount: 2000
MaxImageHeight: 4096
MaxImageWidth: 4096
Supported Query Formats: JSON, geoJSON, PBF
Supports Query Data Elements: true
Min Scale: 1.8489297737236E7
Max Scale: 288895.277144
Min LOD: 5
Max LOD: 11
Supports Datum Transformation: true
Child Resources:
Info
Dynamic Layer
Supported Operations:
Export Map
Identify
QueryLegends
QueryDomains
Find
Return Updates