View In:
ArcGIS JavaScript
ArcGIS Online Map Viewer
ArcGIS Earth
ArcGIS Pro
Service Description: El servicio geográfico representa la georreferenciación de los resultados Total de niños y niñas adolescentes trabajando o realizando oficios del hogar por 15 horas y más, según ciudades y áreas metropolitanas 2003, 2005 y 2007. La población infantil corresponde a la población civil entre los 5 y los 17 años de edad, no institucional residente en todo el territorio nacional; excluyendo los nuevos departamentos. La Tasa de Trabajo Infantil (TTI)= (población trabajando 5-17 años/ póblación total de 5-17 años) *100.
Map Name: Layers
Legend
All Layers and Tables
Dynamic Legend
Dynamic All Layers
Layers:
Description:
Service Item Id: f2dcb50255b345f1a35b942db6051a32
Copyright Text: Departamento Administrativo Nacional de Estadística (DANE)
Spatial Reference:
102100
(3857)
Single Fused Map Cache: true
Tile Info:
- Height: 256
- Width: 256
- DPI: 96
-
Levels of Detail: 20
-
Level ID: 0
[ Start Tile, End Tile ]
- Resolution: 156543.03392800014
- Scale: 5.91657527591555E8
-
Level ID: 1
[ Start Tile, End Tile ]
- Resolution: 78271.51696399994
- Scale: 2.95828763795777E8
-
Level ID: 2
[ Start Tile, End Tile ]
- Resolution: 39135.75848200009
- Scale: 1.47914381897889E8
-
Level ID: 3
[ Start Tile, End Tile ]
- Resolution: 19567.87924099992
- Scale: 7.3957190948944E7
-
Level ID: 4
[ Start Tile, End Tile ]
- Resolution: 9783.93962049996
- Scale: 3.6978595474472E7
-
Level ID: 5
[ Start Tile, End Tile ]
- Resolution: 4891.96981024998
- Scale: 1.8489297737236E7
- Format: PNG
- Compression Quality: 0.0
- Origin: X: -2.0037508342787E7
Y: 2.0037508342787E7
- Spatial Reference: 102100
(3857)
Storage Info:
- Storage Format: esriMapCacheStorageModeCompactV2
- Packet Size: 128
Initial Extent:
XMin: -9461961.579828447
YMin: 590549.6092462689
XMax: -7010856.677618643
YMax: 1392767.8803494773
Spatial Reference: 102100
(3857)
Full Extent:
XMin: -9098784.873187682
YMin: -471076.1653492657
XMax: -7441412.517713086
YMax: 1504872.347582269
Spatial Reference: 102100
(3857)
Units: esriMeters
Supported Image Format Types: PNG32,PNG24,PNG,JPG,DIB,TIFF,EMF,PS,PDF,GIF,SVG,SVGZ,BMP
Document Info:
Title: Total de adolescentes trabajando o realizando oficios del hogar por 15 horas y más, según ciudades y áreas metropolitanas 2003, 2005 y 2007
Author: DANE
Comments: El servicio geográfico representa la georreferenciación de los resultados Total de niños y niñas adolescentes trabajando o realizando oficios del hogar por 15 horas y más, según ciudades y áreas metropolitanas 2003, 2005 y 2007. La población infantil corresponde a la población civil entre los 5 y los 17 años de edad, no institucional residente en todo el territorio nacional; excluyendo los nuevos departamentos. La Tasa de Trabajo Infantil (TTI)= (población trabajando 5-17 años/ póblación total de 5-17 años) *100.
Subject: Total de adolescentes trabajando o realizando oficios del hogar por 15 horas y más, según ciudades y áreas metropolitanas 2003, 2005 y 2007
Category:
Keywords: pib, producto interno bruto, cuentas nacionales
AntialiasingMode: None
TextAntialiasingMode: Force
Supports Dynamic Layers: true
Resampling: false
MaxRecordCount: 1000
MaxImageHeight: 4096
MaxImageWidth: 4096
Supported Query Formats: JSON, geoJSON, PBF
Supports Query Data Elements: true
Min Scale: 1.8489297737236E7
Max Scale: 288895.277144
Min LOD: 5
Max LOD: 11
Supports Datum Transformation: true
Child Resources:
Info
Dynamic Layer
Supported Operations:
Export Map
Identify
QueryLegends
QueryDomains
Find
Return Updates