View In:
ArcGIS JavaScript
ArcGIS Online Map Viewer
ArcGIS Earth
ArcGIS Pro
Service Description: El servicio geográfico representa la georreferenciación de los resultados de nacimientos por nivel de educación de la madre, según departamento de residencia 2009. El DANE consolida, valida y procesa la información de nacimientos a partir de los Certificados de Nacido Vivo, diligenciados en medio físico o digital por médicos, personal de salud autorizado (enfermeras, auxiliar de enfermería y promotores de salud) y funcionarios de Registro Civil.
Map Name: Layers
Legend
All Layers and Tables
Dynamic Legend
Dynamic All Layers
Layers:
Description:
Service Item Id: 7374eee7182847ac97f2575ce8bb27f6
Copyright Text: Departamento Administrativo Nacional de Estadística (DANE)
Spatial Reference:
102100
(3857)
Single Fused Map Cache: true
Tile Info:
- Height: 256
- Width: 256
- DPI: 96
-
Levels of Detail: 20
-
Level ID: 0
[ Start Tile, End Tile ]
- Resolution: 156543.03392800014
- Scale: 5.91657527591555E8
-
Level ID: 1
[ Start Tile, End Tile ]
- Resolution: 78271.51696399994
- Scale: 2.95828763795777E8
-
Level ID: 2
[ Start Tile, End Tile ]
- Resolution: 39135.75848200009
- Scale: 1.47914381897889E8
-
Level ID: 3
[ Start Tile, End Tile ]
- Resolution: 19567.87924099992
- Scale: 7.3957190948944E7
-
Level ID: 4
[ Start Tile, End Tile ]
- Resolution: 9783.93962049996
- Scale: 3.6978595474472E7
-
Level ID: 5
[ Start Tile, End Tile ]
- Resolution: 4891.96981024998
- Scale: 1.8489297737236E7
- Format: PNG
- Compression Quality: 0.0
- Origin: X: -2.0037508342787E7
Y: 2.0037508342787E7
- Spatial Reference: 102100
(3857)
Storage Info:
- Storage Format: esriMapCacheStorageModeCompactV2
- Packet Size: 128
Initial Extent:
XMin: -1.06235664686318E7
YMin: 98667.59561010322
XMax: -6392473.631446126
YMax: 1754433.4071417265
Spatial Reference: 102100
(3857)
Full Extent:
XMin: -9098784.873187682
YMin: -471076.1653492657
XMax: -7441412.517713086
YMax: 1504872.347582269
Spatial Reference: 102100
(3857)
Units: esriMeters
Supported Image Format Types: PNG32,PNG24,PNG,JPG,DIB,TIFF,EMF,PS,PDF,GIF,SVG,SVGZ,BMP
Document Info:
Title: Nacimientos por nivel de educación de la madre, según departamento de residencia 2009
Author: DANE
Comments: El servicio geográfico representa la georreferenciación de los resultados de nacimientos por nivel de educación de la madre, según departamento de residencia 2009. El DANE consolida, valida y procesa la información de nacimientos a partir de los Certificados de Nacido Vivo, diligenciados en medio físico o digital por médicos, personal de salud autorizado (enfermeras, auxiliar de enfermería y promotores de salud) y funcionarios de Registro Civil.
Subject: Nacimientos por nivel de educación de la madre, según departamento de residencia 2009
Category:
Keywords: demografia, poblacion
AntialiasingMode: None
TextAntialiasingMode: Force
Supports Dynamic Layers: true
Resampling: false
MaxRecordCount: 1000
MaxImageHeight: 4096
MaxImageWidth: 4096
Supported Query Formats: JSON, geoJSON, PBF
Supports Query Data Elements: true
Min Scale: 1.8489297737236E7
Max Scale: 288895.277144
Min LOD: 5
Max LOD: 11
Supports Datum Transformation: true
Child Resources:
Info
Dynamic Layer
Supported Operations:
Export Map
Identify
QueryLegends
QueryDomains
Find
Return Updates