View In:
ArcGIS JavaScript
ArcGIS Online Map Viewer
ArcGIS Earth
ArcGIS Pro
Service Description: El servicio geográfico representa la georreferenciación de los resultados de defunciones no fetales por sitio donde ocurrió la defunción, según departamento de residencia año 2009. El DANE consolida, valida y procesa la información de nacimientos a partir de los Certificados de Nacido Vivo, diligenciados en medio físico o digital por médicos, personal de salud autorizado (enfermeras, auxiliar de enfermería y promotores de salud) y funcionarios de Registro Civil.
Map Name: Cache_DptoEVDefNoFetalPorSitioDeOcurr_2009
Legend
All Layers and Tables
Dynamic Legend
Dynamic All Layers
Layers:
Description: El servicio geográfico representa la georreferenciación de los resultados de defunciones no fetales por sitio donde ocurrió la defunción, según departamento de residencia año 2009. El DANE consolida, valida y procesa la información de nacimientos a partir de los Certificados de Nacido Vivo, diligenciados en medio físico o digital por médicos, personal de salud autorizado (enfermeras, auxiliar de enfermería y promotores de salud) y funcionarios de Registro Civil.
Service Item Id: d7a87c75d8bb4be48a7ec78e99b72f6a
Copyright Text: Departamento Administrativo Nacional de Estadística (DANE)
Spatial Reference:
102100
(3857)
Single Fused Map Cache: true
Tile Info:
- Height: 256
- Width: 256
- DPI: 96
-
Levels of Detail: 24
-
Level ID: 1
[ Start Tile, End Tile ]
- Resolution: 78271.5169639999
- Scale: 2.95828763795777E8
-
Level ID: 2
[ Start Tile, End Tile ]
- Resolution: 39135.7584820001
- Scale: 1.47914381897889E8
-
Level ID: 3
[ Start Tile, End Tile ]
- Resolution: 19567.8792409999
- Scale: 7.3957190948944E7
-
Level ID: 4
[ Start Tile, End Tile ]
- Resolution: 9783.93962049996
- Scale: 3.6978595474472E7
-
Level ID: 5
[ Start Tile, End Tile ]
- Resolution: 4891.96981024998
- Scale: 1.8489297737236E7
- Format: PNG
- Compression Quality: 0.0
- Origin: X: -2.0037508342787E7
Y: 2.0037508342787E7
- Spatial Reference: 102100
(3857)
Storage Info:
- Storage Format: esriMapCacheStorageModeCompactV2
- Packet Size: 128
Initial Extent:
XMin: -9070376.626794687
YMin: -254240.55854970292
XMax: -7732630.834341688
YMax: 1208833.760283822
Spatial Reference: 102100
Full Extent:
XMin: -9098784.873187682
YMin: -471076.1653492657
XMax: -7441412.517713086
YMax: 1504872.347582269
Spatial Reference: 102100
Units: esriMeters
Supported Image Format Types: PNG32,PNG24,PNG,JPG,DIB,TIFF,EMF,PS,PDF,GIF,SVG,SVGZ,BMP
Document Info:
Title: Defunciones no fetales por sitio donde ocurrió la defunción, según departamento de residencia 2009
Author:
Comments: El servicio geográfico representa la georreferenciación de los resultados de defunciones no fetales por sitio donde ocurrió la defunción, según departamento de residencia año 2009. El DANE consolida, valida y procesa la información de nacimientos a partir de los Certificados de Nacido Vivo, diligenciados en medio físico o digital por médicos, personal de salud autorizado (enfermeras, auxiliar de enfermería y promotores de salud) y funcionarios de Registro Civil.
Subject: Defunciones no fetales por sitio donde ocurrió la defunción, según departamento de residencia 2009
Category:
Keywords: demografia, poblacion
AntialiasingMode: Fast
TextAntialiasingMode: Force
Supports Dynamic Layers: true
Resampling: false
MaxRecordCount: 2000
MaxImageHeight: 4096
MaxImageWidth: 4096
Supported Query Formats: JSON, geoJSON, PBF
Supports Query Data Elements: true
Min Scale: 1.8489297737236E7
Max Scale: 288895.277144
Min LOD: 5
Max LOD: 11
Supports Datum Transformation: true
Child Resources:
Info
Dynamic Layer
Supported Operations:
Export Map
Identify
QueryLegends
QueryDomains
Find
Return Updates