View In:
ArcGIS JavaScript
ArcGIS Online Map Viewer
ArcGIS Earth
ArcGIS Pro
Service Description: El servicio geográfico representa en coropletas o colores graduados, la georreferenciación de los resultados del Relación de dependencia demográfica en rural disperso. La relación de dependencia demográfica (RD) expresa el cociente de las personas en edades «dependientes» (menores de 15 y mayores de 60 años) respecto a las personas en edades «productivas» (población entre 15 y 59 años de edad), multiplicado por 100.
Map Name: Layers
Legend
All Layers and Tables
Dynamic Legend
Dynamic All Layers
Layers:
Description: El servicio geográfico representa en coropletas o colores graduados, la georreferenciación de los resultados del Relación de dependencia demográfica en rural disperso. La relación de dependencia demográfica (RD) expresa el cociente de las personas en edades «dependientes» (menores de 15 y mayores de 60 años) respecto a las personas en edades «productivas» (población entre 15 y 59 años de edad), multiplicado por 100.
Service Item Id: dfd5679388814b09b7facf42ccc98a3f
Copyright Text: Departamento Administrativo Nacional de Estadística (DANE)
Spatial Reference:
102100
(3857)
Single Fused Map Cache: true
Tile Info:
- Height: 256
- Width: 256
- DPI: 96
-
Levels of Detail: 24
-
Level ID: 1
[ Start Tile, End Tile ]
- Resolution: 78271.5169639999
- Scale: 2.95828763795777E8
-
Level ID: 2
[ Start Tile, End Tile ]
- Resolution: 39135.7584820001
- Scale: 1.47914381897889E8
-
Level ID: 3
[ Start Tile, End Tile ]
- Resolution: 19567.8792409999
- Scale: 7.3957190948944E7
-
Level ID: 4
[ Start Tile, End Tile ]
- Resolution: 9783.93962049996
- Scale: 3.6978595474472E7
-
Level ID: 5
[ Start Tile, End Tile ]
- Resolution: 4891.96981024998
- Scale: 1.8489297737236E7
- Format: PNG
- Compression Quality: 0.0
- Origin: X: -2.0037508342787E7
Y: 2.0037508342787E7
- Spatial Reference: 102100
(3857)
Storage Info:
- Storage Format: esriMapCacheStorageModeCompactV2
- Packet Size: 128
Initial Extent:
XMin: -1.0177187885414684E7
YMin: -882620.4177888993
XMax: -6058995.992266744
YMax: 2016768.3599237117
Spatial Reference: 102100
(3857)
Full Extent:
XMin: -9098767.66
YMin: -471243.5331999995
XMax: -7441397.982281899
YMax: 1504865.250500001
Spatial Reference: 102100
(3857)
Units: esriMeters
Supported Image Format Types: PNG32,PNG24,PNG,JPG,DIB,TIFF,EMF,PS,PDF,GIF,SVG,SVGZ,BMP
Document Info:
Title: Relación de dependencia demográfica. 60 años y más en rural disperso, según municipio 2018
Author:
Comments: El servicio geográfico representa en coropletas o colores graduados, la georreferenciación de los resultados del Relación de dependencia demográfica en rural disperso. La relación de dependencia demográfica (RD) expresa el cociente de las personas en edades «dependientes» (menores de 15 y mayores de 60 años) respecto a las personas en edades «productivas» (población entre 15 y 59 años de edad), multiplicado por 100.
Subject: Relación de dependencia demográfica, 60 años y más en rural disperso, según municipio 2018., Total municipal
Category:
Keywords: demografia, poblacion
AntialiasingMode: Fast
TextAntialiasingMode: Force
Supports Dynamic Layers: true
Resampling: false
MaxRecordCount: 2000
MaxImageHeight: 4096
MaxImageWidth: 4096
Supported Query Formats: JSON, geoJSON, PBF
Supports Query Data Elements: true
Min Scale: 1.8489297737236E7
Max Scale: 288895.277144
Min LOD: 5
Max LOD: 11
Supports Datum Transformation: true
Child Resources:
Info
Dynamic Layer
Supported Operations:
Export Map
Identify
QueryLegends
QueryDomains
Find
Return Updates