View In:
ArcGIS JavaScript
ArcGIS Online Map Viewer
ArcGIS Earth
ArcGIS Pro
Service Description: El servicio geográfico representa en coropletas o colores graduados, la georreferenciación de la Relación de dependencia demográfica, según municipio 2013. La relación de dependencia demográfica (RD) expresa el cociente de las personas en edades «dependientes» (menores de 15 y mayores de 60 años) respecto a las personas en edades «productivas» (población entre 15 y 59 años de edad), multiplicado por 100. Los indicadores provienen de los procesos de conciliación censal y proyecciones de población para el período 1985 - 2020.
Map Name: Cache_MpiosEPRelacionDeDependenciaDemografica_2013_crplt
Legend
All Layers and Tables
Dynamic Legend
Dynamic All Layers
Layers:
Description: El servicio geográfico representa en coropletas o colores graduados, la georreferenciación de la Relación de dependencia demográfica, según municipio 2013. La relación de dependencia demográfica (RD) expresa el cociente de las personas en edades «dependientes» (menores de 15 y mayores de 60 años) respecto a las personas en edades «productivas» (población entre 15 y 59 años de edad), multiplicado por 100. Los indicadores provienen de los procesos de conciliación censal y proyecciones de población para el período 1985 - 2020.
Service Item Id: ecd04100c6a64b628e2b762ba4cde431
Copyright Text: Departamento Administrativo Nacional de Estadística (DANE)
Spatial Reference:
102100
(3857)
LatestVCSWkid(0)
Single Fused Map Cache: true
Tile Info:
- Height: 256
- Width: 256
- DPI: 96
-
Levels of Detail: 24
-
Level ID: 0
[ Start Tile, End Tile ]
- Resolution: 156543.03392800014
- Scale: 5.91657527591555E8
-
Level ID: 1
[ Start Tile, End Tile ]
- Resolution: 78271.51696399994
- Scale: 2.95828763795777E8
-
Level ID: 2
[ Start Tile, End Tile ]
- Resolution: 39135.75848200009
- Scale: 1.47914381897889E8
-
Level ID: 3
[ Start Tile, End Tile ]
- Resolution: 19567.87924099992
- Scale: 7.3957190948944E7
-
Level ID: 4
[ Start Tile, End Tile ]
- Resolution: 9783.93962049996
- Scale: 3.6978595474472E7
-
Level ID: 5
[ Start Tile, End Tile ]
- Resolution: 4891.96981024998
- Scale: 1.8489297737236E7
- Format: PNG
- Compression Quality: 0.0
- Origin: X: -2.0037508342787E7
Y: 2.0037508342787E7
- Spatial Reference: 102100
(3857)
LatestVCSWkid(0)
Storage Info:
- Storage Format: esriMapCacheStorageModeCompactV2
- Packet Size: 128
Initial Extent:
XMin: -9992887.875412647
YMin: -570361.1100047696
XMax: -6547309.515487352
YMax: 1604157.292304771
Spatial Reference: 102100
(0)
LatestVCSWkid(0)
Full Extent:
XMin: -9098784.8732
YMin: -471076.16530000046
XMax: -7441412.5177
YMax: 1504872.3476000018
Spatial Reference: 102100
(0)
LatestVCSWkid(0)
Units: esriMeters
Supported Image Format Types: PNG32,PNG24,PNG,JPG,DIB,TIFF,EMF,PS,PDF,GIF,SVG,SVGZ,BMP
Document Info:
Title: Relación de dependencia demográfica, según municipio 2013 (Versión coropletas)
Author:
Comments: El servicio geográfico representa en coropletas o colores graduados, la georreferenciación de la Relación de dependencia demográfica, según municipio 2013. La relación de dependencia demográfica (RD) expresa el cociente de las personas en edades «dependientes» (menores de 15 y mayores de 60 años) respecto a las personas en edades «productivas» (población entre 15 y 59 años de edad), multiplicado por 100. Los indicadores provienen de los procesos de conciliación censal y proyecciones de población para el período 1985 - 2020.
Subject: Relación de dependencia demográfica, según municipio 2013 (Versión coropletas)
Category:
Keywords: demografia, poblacion
AntialiasingMode: Fast
TextAntialiasingMode: Force
Supports Dynamic Layers: true
Resampling: false
MaxRecordCount: 2000
MaxImageHeight: 4096
MaxImageWidth: 4096
Supported Query Formats: JSON, geoJSON, PBF
Supports Query Data Elements: true
Min Scale: 1.8489297737236E7
Max Scale: 288895.277144
Min LOD: 5
Max LOD: 11
Supports Datum Transformation: true
Child Resources:
Info
Dynamic Layer
Supported Operations:
Export Map
Identify
QueryLegends
QueryDomains
Find
Return Updates