View In:
ArcGIS JavaScript
ArcGIS Online Map Viewer
ArcGIS Earth
ArcGIS Pro
Service Description: Las Cuentas Departamentales tienen como objetivo general conocer la estructura y el comportamiento económico de los diferentes Departamentos del país y suministrar elementos de análisis para la planeación y el desarrollo económico Departamental; Corresponde a una publicación del atlas estadístico 2012
Map Name: Cache_DeptoCD_VA_AE_Construccion_SegunDpto_2010
Legend
All Layers and Tables
Dynamic Legend
Dynamic All Layers
Layers:
Description: Las Cuentas Departamentales tienen como objetivo general conocer la estructura y el comportamiento económico de los diferentes Departamentos del país y suministrar elementos de análisis para la planeación y el desarrollo económico Departamental.
Service Item Id: fa829a9b0e5d46edbb7f3a089514e286
Copyright Text: Departamento Administrativo Nacional de Estadística (DANE)
Spatial Reference:
102100
(3857)
Single Fused Map Cache: true
Tile Info:
- Height: 256
- Width: 256
- DPI: 96
-
Levels of Detail: 24
-
Level ID: 0
[ Start Tile, End Tile ]
- Resolution: 156543.03392800014
- Scale: 5.91657527591555E8
-
Level ID: 1
[ Start Tile, End Tile ]
- Resolution: 78271.51696399994
- Scale: 2.95828763795777E8
-
Level ID: 2
[ Start Tile, End Tile ]
- Resolution: 39135.75848200009
- Scale: 1.47914381897889E8
-
Level ID: 3
[ Start Tile, End Tile ]
- Resolution: 19567.87924099992
- Scale: 7.3957190948944E7
-
Level ID: 4
[ Start Tile, End Tile ]
- Resolution: 9783.93962049996
- Scale: 3.6978595474472E7
-
Level ID: 5
[ Start Tile, End Tile ]
- Resolution: 4891.96981024998
- Scale: 1.8489297737236E7
- Format: PNG
- Compression Quality: 0.0
- Origin: X: -2.0037508342787E7
Y: 2.0037508342787E7
- Spatial Reference: 102100
(3857)
Storage Info:
- Storage Format: esriMapCacheStorageModeCompactV2
- Packet Size: 128
Initial Extent:
XMin: -9867340.729711024
YMin: -570866.1906943652
XMax: -6672856.661189744
YMax: 1604662.3729273686
Spatial Reference: 102100
Full Extent:
XMin: -9098784.873187682
YMin: -471076.1653492657
XMax: -7441412.517713086
YMax: 1504872.347582269
Spatial Reference: 102100
Units: esriMeters
Supported Image Format Types: PNG32,PNG24,PNG,JPG,DIB,TIFF,EMF,PS,PDF,GIF,SVG,SVGZ,BMP
Document Info:
Title: Valor agregado actividad económica de construcción, según departamentos 2010p, base 2005
Author:
Comments: Las Cuentas Departamentales tienen como objetivo general conocer la estructura y el comportamiento económico de los diferentes Departamentos del país y suministrar elementos de análisis para la planeación y el desarrollo económico Departamental.
Subject: Valor agregado actividad económica de construcción, según departamentos 2010p, base 2005
Category:
Keywords: pib, producto interno bruto, cuentas nacionales
AntialiasingMode: Fast
TextAntialiasingMode: Force
Supports Dynamic Layers: true
Resampling: false
MaxRecordCount: 2000
MaxImageHeight: 4096
MaxImageWidth: 4096
Supported Query Formats: JSON, geoJSON, PBF
Supports Query Data Elements: true
Min Scale: 1.8489297737236E7
Max Scale: 288895.277144
Min LOD: 5
Max LOD: 11
Supports Datum Transformation: true
Child Resources:
Info
Dynamic Layer
Supported Operations:
Export Map
Identify
QueryLegends
QueryDomains
Find
Return Updates