View In:
ArcGIS JavaScript
ArcGIS Online Map Viewer
ArcGIS Earth
ArcGIS Pro
Service Description: Los hogares o personas que en la estimación de este componente se consideran afectados por falta de servicios adecuados son aquellos que en el área de cabecera habitan en viviendas que no tienen sanitario o servicio de acueducto y que se proveen de agua lluvia, carrotanque, río, quebrada, manantial o nacimiento. En el área resto, la forma de identificar los hogares es la misma: viviendas con servicios inadecuados, pero en las alternativas de abastecimiento de agua no se considera la opción de carrotanque.
Map Name: Layers
Legend
All Layers and Tables
Dynamic Legend
Dynamic All Layers
Layers:
Description:
Service Item Id: 1b271cbd03654842ade673664b80b8ab
Copyright Text: Departamento Administrativo Nacional de Estadística (DANE)
Spatial Reference:
102100
(3857)
Single Fused Map Cache: true
Tile Info:
- Height: 256
- Width: 256
- DPI: 96
-
Levels of Detail: 20
-
Level ID: 0
[ Start Tile, End Tile ]
- Resolution: 156543.03392800014
- Scale: 5.91657527591555E8
-
Level ID: 1
[ Start Tile, End Tile ]
- Resolution: 78271.51696399994
- Scale: 2.95828763795777E8
-
Level ID: 2
[ Start Tile, End Tile ]
- Resolution: 39135.75848200009
- Scale: 1.47914381897889E8
-
Level ID: 3
[ Start Tile, End Tile ]
- Resolution: 19567.87924099992
- Scale: 7.3957190948944E7
-
Level ID: 4
[ Start Tile, End Tile ]
- Resolution: 9783.93962049996
- Scale: 3.6978595474472E7
-
Level ID: 5
[ Start Tile, End Tile ]
- Resolution: 4891.96981024998
- Scale: 1.8489297737236E7
- Format: PNG
- Compression Quality: 0.0
- Origin: X: -2.0037508342787E7
Y: 2.0037508342787E7
- Spatial Reference: 102100
(3857)
Storage Info:
- Storage Format: esriMapCacheStorageModeCompactV2
- Packet Size: 128
Initial Extent:
XMin: -1.1094626075627554E7
YMin: -551639.6008029768
XMax: -5540390.721118845
YMax: 1621915.4033251852
Spatial Reference: 102100
Full Extent:
XMin: -9098784.806173349
YMin: -471076.1679165989
XMax: -7441412.476858835
YMax: 1504882.9267453735
Spatial Reference: 102100
Units: esriMeters
Supported Image Format Types: PNG32,PNG24,PNG,JPG,DIB,TIFF,EMF,PS,PDF,GIF,SVG,SVGZ,BMP
Document Info:
Title: Hogares que habitan en viviendas con servicios inadecuados, según municipio 1993
Author: DANE
Comments: Los hogares o personas que en la estimación de este componente se consideran afectados por falta de servicios adecuados son aquellos que en el área de cabecera habitan en viviendas que no tienen sanitario o servicio de acueducto y que se proveen de agua lluvia, carrotanque, río, quebrada, manantial o nacimiento. En el área resto, la forma de identificar los hogares es la misma: viviendas con servicios inadecuados, pero en las alternativas de abastecimiento de agua no se considera la opción de carrotanque.
Subject: Hogares que habitan en viviendas con servicios inadecuados, según municipio 1993
Category:
Keywords: pobreza, condiciones, vida
AntialiasingMode: None
TextAntialiasingMode: Force
Supports Dynamic Layers: true
Resampling: false
MaxRecordCount: 1000
MaxImageHeight: 4096
MaxImageWidth: 4096
Supported Query Formats: JSON, geoJSON, PBF
Supports Query Data Elements: true
Min Scale: 1.8489297737236E7
Max Scale: 288895.277144
Min LOD: 5
Max LOD: 11
Supports Datum Transformation: true
Child Resources:
Info
Dynamic Layer
Supported Operations:
Export Map
Identify
QueryLegends
QueryDomains
Find
Return Updates