View In:
ArcGIS JavaScript
ArcGIS Online Map Viewer
ArcGIS Earth
ArcGIS Pro
Service Description: Este componente se busca medir la satisfacción de necesidades educativas mínimas para la población infantil y, para ello, se consideran los hogares con inasistencia escolar como aquellos en donde uno o más niños mayores de 6 y menores de 12 años, parientes del jefe, no asisten a un centro de educación formal.
Map Name: Layers
Legend
All Layers and Tables
Dynamic Legend
Dynamic All Layers
Layers:
Description:
Service Item Id: fdbbd6abd2054d7caca7d1e8e9ea5660
Copyright Text: Departamento Administrativo Nacional de Estadística (DANE)
Spatial Reference:
102100
(3857)
LatestVCSWkid(0)
Single Fused Map Cache: true
Tile Info:
- Height: 256
- Width: 256
- DPI: 96
-
Levels of Detail: 20
-
Level ID: 0
[ Start Tile, End Tile ]
- Resolution: 156543.03392800014
- Scale: 5.91657527591555E8
-
Level ID: 1
[ Start Tile, End Tile ]
- Resolution: 78271.51696399994
- Scale: 2.95828763795777E8
-
Level ID: 2
[ Start Tile, End Tile ]
- Resolution: 39135.75848200009
- Scale: 1.47914381897889E8
-
Level ID: 3
[ Start Tile, End Tile ]
- Resolution: 19567.87924099992
- Scale: 7.3957190948944E7
-
Level ID: 4
[ Start Tile, End Tile ]
- Resolution: 9783.93962049996
- Scale: 3.6978595474472E7
-
Level ID: 5
[ Start Tile, End Tile ]
- Resolution: 4891.96981024998
- Scale: 1.8489297737236E7
- Format: PNG
- Compression Quality: 0.0
- Origin: X: -2.0037508342787E7
Y: 2.0037508342787E7
- Spatial Reference: 102100
(3857)
LatestVCSWkid(0)
Storage Info:
- Storage Format: esriMapCacheStorageModeCompactV2
- Packet Size: 128
Initial Extent:
XMin: -1.0989441498175351E7
YMin: -580830.8456758278
XMax: -5434395.828989737
YMax: 1593041.2612411953
Spatial Reference: 102100
(3857)
LatestVCSWkid(0)
Full Extent:
XMin: -9098784.873187682
YMin: -471076.1653492657
XMax: -7441412.517713086
YMax: 1504872.347582269
Spatial Reference: 102100
(3857)
LatestVCSWkid(0)
Units: esriMeters
Supported Image Format Types: PNG32,PNG24,PNG,JPG,DIB,TIFF,EMF,PS,PDF,GIF,SVG,SVGZ,BMP
Document Info:
Title: Hogares con niños que no asisten a la escuela, según municipio 2005
Author: DANE
Comments: Este componente se busca medir la satisfacción de necesidades educativas mínimas para la población infantil y, para ello, se consideran los hogares con inasistencia escolar como aquellos en donde uno o más niños mayores de 6 y menores de 12 años, parientes del jefe, no asisten a un centro de educación formal.
Subject: Hogares con niños que no asisten a la escuela, según municipio 2005
Category:
Keywords: pobreza, condiciones, vida
AntialiasingMode: None
TextAntialiasingMode: Force
Supports Dynamic Layers: true
Resampling: false
MaxRecordCount: 1000
MaxImageHeight: 4096
MaxImageWidth: 4096
Supported Query Formats: JSON, geoJSON, PBF
Supports Query Data Elements: true
Min Scale: 1.8489297737236E7
Max Scale: 288895.277144
Min LOD: 5
Max LOD: 11
Supports Datum Transformation: true
Child Resources:
Info
Dynamic Layer
Supported Operations:
Export Map
Identify
QueryLegends
QueryDomains
Find
Return Updates