{
 "currentVersion": 11.3,
 "cimVersion": "3.3.0",
 "serviceDescription": "El servicio geográfico representa en coropletas o colores graduados, la georreferenciación de los resultados del Indice de masculinidad en rural disperso, según municipio 2005. Indice de Masculinidad o Razón de Masculinidad es el indicador más utilizado para expresar la composición por sexo de una población. Se le define como la relación del número de hombres respecto al número de mujeres, multiplicada por cien. Este indicador se interpreta como el número de hombres que hay por cada 100 mujeres.",
 "mapName": "Layers",
 "description": "El servicio geográfico representa en coropletas o colores graduados, la georreferenciación de los resultados del Indice de masculinidad en rural disperso, según municipio 2005. Indice de Masculinidad o Razón de Masculinidad es el indicador más utilizado para expresar la composición por sexo de una población. Se le define como la relación del número de hombres respecto al número de mujeres, multiplicada por cien. Este indicador se interpreta como el número de hombres que hay por cada 100 mujeres.",
 "copyrightText": "Departamento Administrativo Nacional de Estadística (DANE)",
 "supportsDynamicLayers": true,
 "layers": [
  {
   "id": 0,
   "name": "Capital de departamento",
   "parentLayerId": -1,
   "defaultVisibility": true,
   "subLayerIds": null,
   "minScale": 3000000,
   "maxScale": 0,
   "type": "Feature Layer",
   "geometryType": "esriGeometryPoint",
   "supportsDynamicLegends": true
  },
  {
   "id": 1,
   "name": "Áreas no municipalizadas",
   "parentLayerId": -1,
   "defaultVisibility": true,
   "subLayerIds": null,
   "minScale": 0,
   "maxScale": 0,
   "type": "Feature Layer",
   "geometryType": "esriGeometryPolygon",
   "supportsDynamicLegends": true
  },
  {
   "id": 2,
   "name": "Departamentos",
   "parentLayerId": -1,
   "defaultVisibility": true,
   "subLayerIds": null,
   "minScale": 0,
   "maxScale": 0,
   "type": "Feature Layer",
   "geometryType": "esriGeometryPolygon",
   "supportsDynamicLegends": true
  },
  {
   "id": 3,
   "name": "Municipios",
   "parentLayerId": -1,
   "defaultVisibility": true,
   "subLayerIds": null,
   "minScale": 0,
   "maxScale": 0,
   "type": "Feature Layer",
   "geometryType": "esriGeometryPolygon",
   "supportsDynamicLegends": true
  },
  {
   "id": 4,
   "name": "Índice de masculinidad en rural disperso (%)",
   "parentLayerId": -1,
   "defaultVisibility": true,
   "subLayerIds": null,
   "minScale": 0,
   "maxScale": 0,
   "type": "Feature Layer",
   "geometryType": "esriGeometryPolygon",
   "supportsDynamicLegends": true
  }
 ],
 "tables": [],
 "spatialReference": {
  "wkid": 102100,
  "latestWkid": 3857,
  "xyTolerance": 0.001,
  "zTolerance": 0.001,
  "mTolerance": 0.001,
  "falseX": -20037700,
  "falseY": -30241100,
  "xyUnits": 10000,
  "falseZ": -100000,
  "zUnits": 10000,
  "falseM": -100000,
  "mUnits": 10000
 },
 "singleFusedMapCache": true,
 "tileInfo": {
  "rows": 256,
  "cols": 256,
  "dpi": 96,
  "format": "PNG",
  "compressionQuality": 0,
  "origin": {
   "x": -2.0037508342787E7,
   "y": 2.0037508342787E7
  },
  "spatialReference": {
   "wkid": 102100,
   "latestWkid": 3857,
   "xyTolerance": 0.001,
   "zTolerance": 0.001,
   "mTolerance": 0.001,
   "falseX": -20037700,
   "falseY": -30241100,
   "xyUnits": 1.4892314192838538E8,
   "falseZ": -100000,
   "zUnits": 10000,
   "falseM": -100000,
   "mUnits": 10000
  },
  "lods": [
   {
    "level": 0,
    "resolution": 156543.033928,
    "scale": 5.91657527591555E8
   },
   {
    "level": 1,
    "resolution": 78271.5169639999,
    "scale": 2.95828763795777E8
   },
   {
    "level": 2,
    "resolution": 39135.7584820001,
    "scale": 1.47914381897889E8
   },
   {
    "level": 3,
    "resolution": 19567.8792409999,
    "scale": 7.3957190948944E7
   },
   {
    "level": 4,
    "resolution": 9783.93962049996,
    "scale": 3.6978595474472E7
   },
   {
    "level": 5,
    "resolution": 4891.96981024998,
    "scale": 1.8489297737236E7
   },
   {
    "level": 6,
    "resolution": 2445.98490512499,
    "scale": 9244648.868618
   },
   {
    "level": 7,
    "resolution": 1222.99245256249,
    "scale": 4622324.434309
   },
   {
    "level": 8,
    "resolution": 611.49622628138,
    "scale": 2311162.217155
   },
   {
    "level": 9,
    "resolution": 305.748113140558,
    "scale": 1155581.108577
   },
   {
    "level": 10,
    "resolution": 152.874056570411,
    "scale": 577790.554289
   },
   {
    "level": 11,
    "resolution": 76.4370282850732,
    "scale": 288895.277144
   },
   {
    "level": 12,
    "resolution": 38.2185141425366,
    "scale": 144447.638572
   },
   {
    "level": 13,
    "resolution": 19.1092570712683,
    "scale": 72223.819286
   },
   {
    "level": 14,
    "resolution": 9.55462853563415,
    "scale": 36111.909643
   },
   {
    "level": 15,
    "resolution": 4.77731426794937,
    "scale": 18055.954822
   },
   {
    "level": 16,
    "resolution": 2.38865713397468,
    "scale": 9027.977411
   },
   {
    "level": 17,
    "resolution": 1.19432856685505,
    "scale": 4513.988705
   },
   {
    "level": 18,
    "resolution": 0.597164283559817,
    "scale": 2256.994353
   },
   {
    "level": 19,
    "resolution": 0.298582141647617,
    "scale": 1128.497176
   },
   {
    "level": 20,
    "resolution": 0.14929107082380833,
    "scale": 564.248588
   },
   {
    "level": 21,
    "resolution": 0.07464553541190416,
    "scale": 282.124294
   },
   {
    "level": 22,
    "resolution": 0.03732276770595208,
    "scale": 141.062147
   },
   {
    "level": 23,
    "resolution": 0.01866138385297604,
    "scale": 70.5310735
   }
  ]
 },
 "storageInfo": {
  "storageFormat": "esriMapCacheStorageModeCompactV2",
  "packetSize": 128
 },
 "initialExtent": {
  "xmin": -9416987.83043322,
  "ymin": 581154.5536432429,
  "xmax": -6781345.018818539,
  "ymax": 1429017.5904678185,
  "spatialReference": {
   "wkid": 102100,
   "latestWkid": 3857,
   "xyTolerance": 0.001,
   "zTolerance": 0.001,
   "mTolerance": 0.001,
   "falseX": -20037700,
   "falseY": -30241100,
   "xyUnits": 10000,
   "falseZ": -100000,
   "zUnits": 10000,
   "falseM": -100000,
   "mUnits": 10000
  }
 },
 "fullExtent": {
  "xmin": -9098767.66,
  "ymin": -471243.5331999995,
  "xmax": -7441397.982281899,
  "ymax": 1504865.250500001,
  "spatialReference": {
   "wkid": 102100,
   "latestWkid": 3857,
   "xyTolerance": 0.001,
   "zTolerance": 0.001,
   "mTolerance": 0.001,
   "falseX": -20037700,
   "falseY": -30241100,
   "xyUnits": 10000,
   "falseZ": -100000,
   "zUnits": 10000,
   "falseM": -100000,
   "mUnits": 10000
  }
 },
 "datesInUnknownTimezone": false,
 "minScale": 1.8489297737236E7,
 "maxScale": 288895.277144,
 "minLOD": 5,
 "maxLOD": 11,
 "units": "esriMeters",
 "supportedImageFormatTypes": "PNG32,PNG24,PNG,JPG,DIB,TIFF,EMF,PS,PDF,GIF,SVG,SVGZ,BMP",
 "documentInfo": {
  "Title": "Indice de masculinidad en rural disperso, según municipio 2018",
  "Author": "",
  "Comments": "El servicio geográfico representa en coropletas o colores graduados, la georreferenciación de los resultados del Indice de masculinidad en rural disperso, según municipio 2005. Indice de Masculinidad o Razón de Masculinidad es el indicador más utilizado para expresar la composición por sexo de una población. Se le define como la relación del número de hombres respecto al número de mujeres, multiplicada por cien. Este indicador se interpreta como el número de hombres que hay por cada 100 mujeres.",
  "Subject": "Indice de masculinidad en rural disperso, según municipio 2018, Total municipal",
  "Category": "",
  "Version": "2.9.0",
  "AntialiasingMode": "Fast",
  "TextAntialiasingMode": "Force",
  "Keywords": "demografia, poblacion"
 },
 "supportsQueryDomains": true,
 "capabilities": "Map,Query,Data",
 "supportedQueryFormats": "JSON, geoJSON, PBF",
 "exportTilesAllowed": false,
 "referenceScale": 0.0,
 "supportsDatumTransformation": true,
 "archivingInfo": {
  "supportsHistoricMoment": false
 },
 "supportsClipping": true,
 "supportsSpatialFilter": true,
 "supportsTimeRelation": true,
 "supportsQueryDataElements": true,
 "mapUnits": {
  "uwkid": 9001
 },
 "maxRecordCount": 2000,
 "maxImageHeight": 4096,
 "maxImageWidth": 4096,
 "supportedExtensions": "WFSServer, WMSServer",
 "resampling": false,
 "serviceItemId": "448ccd2cf493453ab2ef1540d019ae6f"
}
