View In:
ArcGIS JavaScript
ArcGIS Online Map Viewer
ArcGIS Earth
ArcGIS Pro
Service Description: El servicio geográfico representa en coropletas o colores graduados, la georreferenciación de los resultados de la Relación de Niños-Mujer, según municipio 2005. La Relación de Niños-Mujer es un indicador que expresa la relación entre los niños y las niñas menores de 5 años y las mujeres en edad fértil, esto es, de 15 a 49 años multiplicada por 100.
Map Name: Cache_MpiosIndRelaciónNiñosMujer_2005_Crplt
Legend
All Layers and Tables
Dynamic Legend
Dynamic All Layers
Layers:
Description: El servicio geográfico representa en coropletas o colores graduados, la georreferenciación de los resultados de la Relación de Niños-Mujer, según municipio 2005. La Relación de Niños-Mujer es un indicador que expresa la relación entre los niños y las niñas menores de 5 años y las mujeres en edad fértil, esto es, de 15 a 49 años multiplicada por 100.
Service Item Id: e03b39acddc54c6ab848af61543c495d
Copyright Text: Departamento Administrativo Nacional de Estadística (DANE)
Spatial Reference:
102100
(3857)
LatestVCSWkid(0)
Single Fused Map Cache: true
Tile Info:
- Height: 256
- Width: 256
- DPI: 96
-
Levels of Detail: 24
-
Level ID: 0
[ Start Tile, End Tile ]
- Resolution: 156543.03392800014
- Scale: 5.91657527591555E8
-
Level ID: 1
[ Start Tile, End Tile ]
- Resolution: 78271.51696399994
- Scale: 2.95828763795777E8
-
Level ID: 2
[ Start Tile, End Tile ]
- Resolution: 39135.75848200009
- Scale: 1.47914381897889E8
-
Level ID: 3
[ Start Tile, End Tile ]
- Resolution: 19567.87924099992
- Scale: 7.3957190948944E7
-
Level ID: 4
[ Start Tile, End Tile ]
- Resolution: 9783.93962049996
- Scale: 3.6978595474472E7
-
Level ID: 5
[ Start Tile, End Tile ]
- Resolution: 4891.96981024998
- Scale: 1.8489297737236E7
- Format: PNG
- Compression Quality: 0.0
- Origin: X: -2.0037508342787E7
Y: 2.0037508342787E7
- Spatial Reference: 102100
(3857)
LatestVCSWkid(0)
Storage Info:
- Storage Format: esriMapCacheStorageModeCompactV2
- Packet Size: 128
Initial Extent:
XMin: -1.1064887978237722E7
YMin: -1174041.3757758662
XMax: -5681812.439799825
YMax: 2223239.311699006
Spatial Reference: 102100
(0)
LatestVCSWkid(0)
Full Extent:
XMin: -9099142.774256144
YMin: -471076.1679165989
XMax: -7441412.517713086
YMax: 1505171.2020079717
Spatial Reference: 102100
(0)
LatestVCSWkid(0)
Units: esriMeters
Supported Image Format Types: PNG32,PNG24,PNG,JPG,DIB,TIFF,EMF,PS,PDF,GIF,SVG,SVGZ,BMP
Document Info:
Title: Relación de Niños-Mujer, según municipio 2005 (representación en coropletas)
Author:
Comments: El servicio geográfico representa en coropletas o colores graduados, la georreferenciación de los resultados de la Relación de Niños-Mujer, según municipio 2005. La Relación de Niños-Mujer es un indicador que expresa la relación entre los niños y las niñas menores de 5 años y las mujeres en edad fértil, esto es, de 15 a 49 años multiplicada por 100.
Subject: Relación de Niños-Mujer, según municipio 2005 (representación en coropletas)
Category:
Keywords: demografia, poblacion
AntialiasingMode: Fast
TextAntialiasingMode: Force
Supports Dynamic Layers: true
Resampling: false
MaxRecordCount: 2000
MaxImageHeight: 4096
MaxImageWidth: 4096
Supported Query Formats: JSON, geoJSON, PBF
Supports Query Data Elements: true
Min Scale: 1.8489297737236E7
Max Scale: 288895.277144
Min LOD: 5
Max LOD: 11
Supports Datum Transformation: true
Child Resources:
Info
Dynamic Layer
Supported Operations:
Export Map
Identify
QueryLegends
QueryDomains
Find
Return Updates